BEGIN:VCALENDAR
VERSION:2.0
PRODID:-//TROCA - ECPv5.3.1//NONSGML v1.0//EN
CALSCALE:GREGORIAN
METHOD:PUBLISH
X-WR-CALNAME:TROCA
X-ORIGINAL-URL:https://www.plataforma-troca.org
X-WR-CALDESC:Events for TROCA
BEGIN:VTIMEZONE
TZID:UTC
BEGIN:STANDARD
TZOFFSETFROM:+0000
TZOFFSETTO:+0000
TZNAME:UTC
DTSTART:20190101T000000
END:STANDARD
END:VTIMEZONE
BEGIN:VEVENT
DTSTART;TZID=UTC:20190318T183000
DTEND;TZID=UTC:20190318T210000
DTSTAMP:20260424T220155
CREATED:20190311T085716Z
LAST-MODIFIED:20190311T085716Z
UID:10300-1552933800-1552942800@www.plataforma-troca.org
SUMMARY:A TROCA em Montemor-o-Novo: Conversa sobre Comércio Justo e Tratados Internacionais
DESCRIPTION:No dia 18 de Março\, às 18h30\, conversamos com a Plataforma Troca no Espaço Integral sobre os acordos internacionais de Comércio e Investimento\, alicerces do actual modelo de globalização\, profundamente insustentável\, nomeadamente do ponto de vista ambiental. Estes acordos asseguram às multinacionais privilégios que obrigam os Estados a pagar pesadas indemnizações quando aprovam legislação (nomeadamente ambiental) que ameace os seus lucros. \nA Plataforma Troca faz parte de um movimento cidadão internacional cada vez mais alargado que quer inverter esta situação. No passado 22 de Janeiro deu\, em Portugal\, início a uma campanha europeia e mundial com este objectivo. Nesta conversa\, o Luís Camacho\, activista da Plataforma Troca\, virá falar-nos sobre os perigos dos acordos de comércio livre e de sistemas de arbitragem\, sobre a campanha actualmente a decorrer\, e sobre o que cada um de nós pode fazer. \n\nA Plataforma Troca nasceu da plataforma Não ao Tratado Transatlântico (2014)\, promovendo desde então campanhas contra os acordos de comércio livre e sistemas de arbitragem internacional que ameaçam a democracia\, o Estado de Direito\, o ambiente\, a saúde\, os serviços públicos e os direitos dos consumidores e trabalhadores.
URL:https://www.plataforma-troca.org/evento/a-troca-em-montemor-o-novo-conversa-sobre-comercio-justo-e-tratados-internacionais/
LOCATION:Espaço Integral Minga\, Praceta 25 de Abril 3\, Montemor-o-Novo\, 7050-135\, Portugal
CATEGORIES:Conversa,Debate
ATTACH;FMTTYPE=image/png:https://www.plataforma-troca.org/wp-content/uploads/2019/03/2019-03-18-comercio-justo.png
END:VEVENT
END:VCALENDAR