BEGIN:VCALENDAR
VERSION:2.0
PRODID:-//TROCA - ECPv5.3.1//NONSGML v1.0//EN
CALSCALE:GREGORIAN
METHOD:PUBLISH
X-WR-CALNAME:TROCA
X-ORIGINAL-URL:https://www.plataforma-troca.org
X-WR-CALDESC:Events for TROCA
BEGIN:VTIMEZONE
TZID:UTC
BEGIN:STANDARD
TZOFFSETFROM:+0000
TZOFFSETTO:+0000
TZNAME:UTC
DTSTART:20190101T000000
END:STANDARD
END:VTIMEZONE
BEGIN:VEVENT
DTSTART;TZID=UTC:20190507T193000
DTEND;TZID=UTC:20190507T230000
DTSTAMP:20260424T232443
CREATED:20190507T073643Z
LAST-MODIFIED:20190507T073643Z
UID:10458-1557257400-1557270000@www.plataforma-troca.org
SUMMARY:Conversa Aberta: Transparência e Comércio Justo na UE
DESCRIPTION:Hoje\, dia 7 de Maio\, pelas 19h30\, terá lugar\, na Fábrica de Alternativas de Algés\, a «Conversa Aberta: Transparência e Comércio Justo na União Europeia». \nIntegrada no Maio Europeu – European May Portugal\, esta conversa aberta dinamizada conjuntamente pela Transparência e Integridade – TI-PT e pela TROCA – Plataforma por um Comércio Internacional Justo vai focar os desafios da transparência no funcionamento das instituições europeias e os riscos associados aos tratados de comércio negociados pela UE. \nDiscutiremos as prioridades para o reforço da transparência nos processos decisórios europeus e a campanha que temos em curso para vincular o próximo Parlamento Europeu a reformas concretas para aumentar a democracia e participação dos cidadãos. \nVamos também discutir os mecanismos de resolução de litígios (ISDS – Investor-State Dispute Settlement – e similares) previstos nos tratados internacionais de comércio e o perigo que colocam para as democracias\, apresentando a campanha europeia em curso para combater a captura da justiça pelos interesses corporativos.
URL:https://www.plataforma-troca.org/evento/conversa-aberta-transparencia-e-comercio-justo-na-ue/
LOCATION:Fábrica das Alternativas – Algès\, Rua Margarida Palla 19A\, Algés\, Portugal
CATEGORIES:Conversa,Debate
ATTACH;FMTTYPE=image/jpeg:https://www.plataforma-troca.org/wp-content/uploads/2018/10/fabrica_alternativas.jpg
END:VEVENT
END:VCALENDAR