BEGIN:VCALENDAR
VERSION:2.0
PRODID:-//TROCA - ECPv5.3.1//NONSGML v1.0//EN
CALSCALE:GREGORIAN
METHOD:PUBLISH
X-WR-CALNAME:TROCA
X-ORIGINAL-URL:https://www.plataforma-troca.org
X-WR-CALDESC:Events for TROCA
BEGIN:VTIMEZONE
TZID:UTC
BEGIN:STANDARD
TZOFFSETFROM:+0000
TZOFFSETTO:+0000
TZNAME:UTC
DTSTART:20220101T000000
END:STANDARD
END:VTIMEZONE
BEGIN:VEVENT
DTSTART;TZID=UTC:20220312T210000
DTEND;TZID=UTC:20220312T230000
DTSTAMP:20260425T144129
CREATED:20220309T072229Z
LAST-MODIFIED:20220309T072402Z
UID:13328-1647118800-1647126000@www.plataforma-troca.org
SUMMARY:Conversa/Debate sobre o "TCE: a arma secreta da indústria fóssil para impedir a acção climática"
DESCRIPTION:Dia 12 de Março\, pelas 21h\, na Casa da Beira Alta\, no Porto\, a TROCA\, a convite do BioPorto\, apresentará um vídeo sobre o Tratado da Carta da Energia\, seguido de debate. \nEste tratado tem estado a ser alvo de fortes críticas por parte de múltiplos quadrantes da sociedade civil\, os quais consideram o actual processo de modernização incompatível com a urgência necessária para dar resposta à actual crise climática. \nAssim\, existem boas e razões para nos encontrarmos no Porto\, debatermos este tema e pensarmos sobre como podemos agir\, conjugando esforços. \nFB: Evento \nEsperamos por ti na Casa da Beira Alta!
URL:https://www.plataforma-troca.org/evento/conversa-debate-sobre-o-tce-a-arma-secreta-da-industria-fossil-para-impedir-a-accao-climatica/
LOCATION:Casa da Beira Alta\, Rua de Santa Catarina\, 147\, Porto\, 4000-381\, Portugal
CATEGORIES:Apresentação,Conversa,Debate
ATTACH;FMTTYPE=image/jpeg:https://www.plataforma-troca.org/wp-content/uploads/2022/03/TROCA_Lisboa_DebatePorto_v2-1-scaled.jpg
END:VEVENT
END:VCALENDAR