BEGIN:VCALENDAR
VERSION:2.0
PRODID:-//TROCA - ECPv5.3.1//NONSGML v1.0//EN
CALSCALE:GREGORIAN
METHOD:PUBLISH
X-WR-CALNAME:TROCA
X-ORIGINAL-URL:https://www.plataforma-troca.org
X-WR-CALDESC:Events for TROCA
BEGIN:VTIMEZONE
TZID:UTC
BEGIN:STANDARD
TZOFFSETFROM:+0000
TZOFFSETTO:+0000
TZNAME:UTC
DTSTART:20190101T000000
END:STANDARD
END:VTIMEZONE
BEGIN:VEVENT
DTSTART;TZID=UTC:20190110T213000
DTEND;TZID=UTC:20190110T213000
DTSTAMP:20260425T111906
CREATED:20190108T085033Z
LAST-MODIFIED:20190108T085033Z
UID:9734-1547155800-1547155800@www.plataforma-troca.org
SUMMARY:Conversa: "Outra Globalização é possível - chegou a hora do contra-ataque!"
DESCRIPTION:No próximo dia 10 de Janeiro\, quinta-feira\, a partir das 21h30\, terá lugar no espaço Com Calma (Rua República da Bolívia 5 C\, 1500-543) em Lisboa\, uma breve apresentação seguida de conversa. \nA Plataforma TROCA promove o evento\, que tem a seguinte descrição: \n«No dia-a-dia verificamos que as ameaças ambientais se tornam cada vez mais graves e perigosas\, que os salários reais estão estagnados\, enquanto as desigualdades de riqueza e rendimento se agravam\, que a Democracia se vai esvaziando e que em muitos países a extrema direita está em clara e ameaçadora ascensão. \nEstas tendências não são alheias à forma como tem sido gerida a Globalização. Os acordos de Comércio e Investimento são os alicerces da Globalização. Eles asseguram às multinacionais privilégios que obrigam os estados a pagar pesadas indemnizações quando aprovam legislação  (ambiental\, laboral\, etc.) que ameace os seus lucros. \nEsta tendência tem aumentado de dia para dia e já chegou a Portugal\, onde recentemente os accionistas da EDP ameaçaram os contribuintes portugueses com o recurso a estes mecanismos de “justiça” paralela. Abre-se um precedente muito perigoso para as nossas finanças e para a nossa Democracia. \nPor outro lado\, as multinacionais usufruem de impunidade no palco internacional para várias violações dos Direitos Humanos. \nNo entanto\, existe um movimento cada vez mais alargado de associações\, colectivos e sindicatos empenhado em inverter esta situação. Dia 22 de Janeiro será lançada uma campanha mundial com esse objectivo. Terá  hipóteses de sucesso? O que pode cada um de nós fazer?» \nConvidamos todos os interessados a estarem presentes no espaço Com Calma\, já na próxima quinta-feira\, dia 10 de Jan.\, 5ª feira\, pelas 21:30h. Apesar de o convite ser feitoum pouco em cima da hora\, esperamos poder contar com a vossa presença!
URL:https://www.plataforma-troca.org/evento/conversa-outra-globalizacao-e-possivel-chegou-a-hora-do-contra-ataque/
LOCATION:espaço Com Calma\, Rua República da Bolívia 5 C\, 1500-543 lisboa
CATEGORIES:Conversa
ATTACH;FMTTYPE=image/jpeg:https://www.plataforma-troca.org/wp-content/uploads/2015/03/conversa-BLEU.jpg
END:VEVENT
END:VCALENDAR