BEGIN:VCALENDAR
VERSION:2.0
PRODID:-//TROCA - ECPv5.3.1//NONSGML v1.0//EN
CALSCALE:GREGORIAN
METHOD:PUBLISH
X-WR-CALNAME:TROCA
X-ORIGINAL-URL:https://www.plataforma-troca.org
X-WR-CALDESC:Events for TROCA
BEGIN:VTIMEZONE
TZID:UTC
BEGIN:STANDARD
TZOFFSETFROM:+0000
TZOFFSETTO:+0000
TZNAME:UTC
DTSTART:20210101T000000
END:STANDARD
END:VTIMEZONE
BEGIN:VEVENT
DTSTART;TZID=UTC:20210515T160000
DTEND;TZID=UTC:20210515T190000
DTSTAMP:20260425T154831
CREATED:20210512T065007Z
LAST-MODIFIED:20210512T065345Z
UID:12875-1621094400-1621105200@www.plataforma-troca.org
SUMMARY:Evento pela Biodiversidade
DESCRIPTION:Dez organizações aceitaram o desafio da BioPorto de\, unidas num manifesto\, participarem no “Evento online pela Biodiversidade”\, que se vai realizar no dia 15 de Maio pelas 16h00. \nO vídeo em comum ficará disponível nesse canal no sábado às 16h: https://www.youtube.com/channel/UCJ6yTaWnF2LGcqAVI6ZHd6Q \nJuntem-se a nós pela Biodiversidade!
URL:https://www.plataforma-troca.org/evento/evento-pela-biodiversidade/
CATEGORIES:Apresentação,Formação
ATTACH;FMTTYPE=image/jpeg:https://www.plataforma-troca.org/wp-content/uploads/2021/05/publicacao-1.jpg
END:VEVENT
END:VCALENDAR