BEGIN:VCALENDAR
VERSION:2.0
PRODID:-//TROCA - ECPv5.3.1//NONSGML v1.0//EN
CALSCALE:GREGORIAN
METHOD:PUBLISH
X-WR-CALNAME:TROCA
X-ORIGINAL-URL:https://www.plataforma-troca.org
X-WR-CALDESC:Events for TROCA
BEGIN:VTIMEZONE
TZID:UTC
BEGIN:STANDARD
TZOFFSETFROM:+0000
TZOFFSETTO:+0000
TZNAME:UTC
DTSTART:20240101T000000
END:STANDARD
END:VTIMEZONE
BEGIN:VEVENT
DTSTART;TZID=UTC:20240526T150000
DTEND;TZID=UTC:20240526T180000
DTSTAMP:20260426T010438
CREATED:20240522T083638Z
LAST-MODIFIED:20240522T083638Z
UID:14286-1716735600-1716746400@www.plataforma-troca.org
SUMMARY:Marcha pela Biodiversidade
DESCRIPTION:No próximo dia 26 de Maio\, domingo\, pelas 15h\, terá lugar no Porto\, a Marcha pela Biodiversidade\, com início na Praça dos Leões. A TROCA\, como em anos anteriores\, apoia esta iniciativa\, apela à participação e transcreve\, em baixo\, o Manifesto da mesma. \n– Praça dos Leões (concentração)\, Rua de Cedofeita\, Rua dos Bragas\, Rua Mártires da Liberdade\, Praça da República\, Viaduto de Gonçalo Cristóvão\, Rua do Bonjardim\, Estação do Metro da Trindade\, Ordem da Trindade\, Câmara Municipal do Porto – Praça General Humberto Delgado/Junto à igreja. \n \nParagens para Intervenções:\n\nPraça dos Leões (concentração) – BIOPORTO\nPraça da República – TROCA\nTrindade – ESPAÇO MUSAS\nCâmara Municipal do Porto\nPraça General Humberto Delgado/Junto à igreja\nA SOALHEIRA\n\nFinal da Marcha:\n\nTroca de sementes no final da marcha (Praça General Humberto Delgado/Junto à igreja): apelar a  todos para levarem sementes\nCampanha de adopção de animais\nDivulgação de Projetos\nApós final da marcha\n20h00: Jantar na Macaréu. Reservas: 933135993 – Mário.\n\n\nManifesto\nAs Sementes Não Podem Ter Patentes! \nSabemos que o capitalismo\, mesmo que esteja em causa a saúde pública\, não mede as consequências com vista à obtenção de lucros. \nValendo-se de contrainformação\, desinforma\, manipula e distorce opiniões em prol das suas estratégias comerciais. \nA Bayer/Monsanto assim como outras agroquímicas\, representam um alargado conjunto de poderes internacionais que visam coagir estados e regiões a adotarem forçadamente os seus produtos. \nOs seus representantes ocupam elevados cargos principalmente nos governos dos EUA\, da Alemanha e de outros países\, dominam também relações diplomáticas e comerciais e promovem as condições para minar a agricultura biológica para se auto perpetuarem e para impedir seja quem for\, de contestar os seus métodos autocráticos\, lançando sérios contra-ataques jurídicos sobre quem se atrever a contestá-los\, constituindo assim um grave poder dentro dos estados\, imune ao escrutínio democrático e que visa o domínio da agricultura e da alimentação… \nA população de todo o mundo precisa de se unir para defender o bem-estar geral: pelo planeta\, pelos seres humanos e todos os seres vivos\, e pela liberdade! \nMarcharemos aqui no Porto para mostrar àqueles a quem só interessam os negócios\, que há gente desperta e unida que lutará sempre pelo bem de todos! \nMarcharemos pela aliança contra as práticas agressivas da Bayer/Monsanto ao nível da agricultura e da indústria. \nPela rejeição dos novos transgênicos e da sua pretensa equivalência a biológicos! \nNão precisamos de OGMs de 1ª geração: resistentes a herbicidas\, a pragas e a vírus! \nNão precisamos de OGMs de 2ª geração com características nutricionais melhoradas quantitativamente e qualitativamente! A mãe natureza consegue alimentar a população! \nNÃO PRECISAMOS DE OGMS DE 3ª GERAÇÃO COM ALIMENTOS SINTETIZADOS PARA DESEMPENHAR FUNÇÕES VACINAIS E HORMONAIS! \nPela exigência de testes científicos independentes sobre OGM! \nPela promoção de soluções biológicas! \nPela exposição do compadrio entre as grandes empresas e os governos! \nPela luta contra a pobreza e os que a propagam\, a verdadeira causa da fome mundial! \nPelo apoio aos produtores locais\, à biodiversidade e às abelhas e à sua polinização – abaixo os pesticidas! \nPela rotulagem de todos os produtos que contenham OGMs! \nÉ tempo de recuperarmos a nossa comida sem venenos! \nÉ tempo de marcharmos pela biodiversidade! \n\nApoiantes\n\nBIOPORTO\nESPAÇO MUSAS\nMACARÉU – ASSOCIAÇÃO CULTURAL\nFAPAS\nPARTIDO ECOLOGISTA OS VERDES\nNÓS\, CIDADÃOS!\nASSOCIAÇÃO DE APICULTORES DO NORTE DE PORTUGAL\nA SOALHEIRA\nTERRA SOLTA\nTROCA – PLATAFORMA POR UM COMÉRCIO INTERNACIONAL JUSTO\nMOVIMENTO CÍVICO DE AGRICULTORES
URL:https://www.plataforma-troca.org/evento/marcha-pela-biodiversidade/
LOCATION:Praça dos Leões\, Porto\, Praça dos Leões\, Porto\, Portugal
CATEGORIES:Manifestação,Marcha
ATTACH;FMTTYPE=image/png:https://www.plataforma-troca.org/wp-content/uploads/2024/05/MArche-Biodiversidade-2024.png
END:VEVENT
END:VCALENDAR