BEGIN:VCALENDAR
VERSION:2.0
PRODID:-//TROCA - ECPv5.3.1//NONSGML v1.0//EN
CALSCALE:GREGORIAN
METHOD:PUBLISH
X-WR-CALNAME:TROCA
X-ORIGINAL-URL:https://www.plataforma-troca.org
X-WR-CALDESC:Events for TROCA
BEGIN:VTIMEZONE
TZID:UTC
BEGIN:STANDARD
TZOFFSETFROM:+0000
TZOFFSETTO:+0000
TZNAME:UTC
DTSTART:20250101T000000
END:STANDARD
END:VTIMEZONE
BEGIN:VEVENT
DTSTART;TZID=UTC:20250702T180000
DTEND;TZID=UTC:20250702T200000
DTSTAMP:20260425T203610
CREATED:20250628T174132Z
LAST-MODIFIED:20250629T151155Z
UID:14576-1751479200-1751486400@www.plataforma-troca.org
SUMMARY:Webinar "A Caminho de um Consumo Livre de Desflorestação"\, da ZERO com colaboração da TROCA\, DECO e WWF Portugal
DESCRIPTION:A ZERO – Associação Sistema Terrestre Sustestável convidou a TROCA para\, em conjunto com a DECO e a WWF Portugal\, co-organizar um webinar onde será discutida a implementação do regulamento para os produtos livres de desflorestação (EUDR) e que implicações têm os acordos de comércio livre na aplicação deste regulamento. \nNomeadamente\, iremos abordar como interesses económicos \, associados ao acordo tóxico UE-Mercosul podem vir a pôr em causa o EUDR e sabotar por completo a sua eficácia\, tanto no combate à desflorestação e degradação florestal\, como na defesa dos direitos humanos das comunidades locais e dos produtores e produtoras. \nData\n2 Julho 2025 \nHorário \n18 horas \nFormato\nOnline (webinar) – registo aqui \nA partir do final deste ano\, as grandes empresas terão de começar a cumprir o regulamento para os produtos livres de desflorestação (EUDR). \nÉ fundamental garantirmos uma boa implementação destas regras\, de forma a assegurarmos que será possível retirar das nossas prateleiras produtos produzidos ilegalmente\, responsáveis por desflorestação e por violações de direitos humanos. Se garantirmos uma boa implementação do EUDR\, conseguiremos avançar significativamente na defesa dos direitos humanos\, na conservação das florestas\, no combate contra as alterações climáticas\, na protecção da biodiversidade e na promoção de um comércio mais justo. \nO EUDR inclui apenas certos bens-primários considerados de risco: café\, cacau\, bovinos\, soja\, óleo de palma\, madeira e borracha. Mas este regulamento é a oportunidade que temos no combate à desflorestação e na promoção de um comércio mais justo. Por isso\, há que assegurar que este seja consistente e firme. \nComo será implementado este regulamento em Portugal? Que papel podemos ter – enquanto produtores\, consumidores\, organizações da sociedade civil e decisores – para ajudar na eficácia desta ferramenta fundamental no combate à desflorestação? Como podemos garantir que acordos de comércio livre\, como o acordo tóxico entre a UE e o Mercosul\, não impedem a sua correcta implementação? \nEstas são algumas das questões que iremos debater neste webinar\, organizado em conjunto com a ZERO\, DECO e WWF Portugal\, que contará com a participação da Direção-Geral da Alimentação e Veterinária e com o Instituto da Conservação da Natureza e Florestas. \nPrograma:\n18H | Introdução: “Um regulamento para produtos livres de desflorestação\, porquê?” \nPedro Horta (ZERO) \n18H10 | “Implementação do EUDR para o café\, cacau\, bovinos\, soja e óleo de palma” \nDr. José Manuel Costa (Direção-Geral da Alimentação e Veterinária) \n18H30 | “Implementação do EUDR para a madeira e a borracha” \nEngª Cristina Santos (Instituto da Conservação da Natureza e Florestas) \n18h50 | Questões das organizações não governamentais (DECO\,  TROCA  e WWF) \n19H20 | Questões da audiência \n 
URL:https://www.plataforma-troca.org/evento/webinar-a-caminho-de-um-consumo-livre-de-desflorestacao/
LOCATION:Online
CATEGORIES:Webinar
ATTACH;FMTTYPE=image/png:https://www.plataforma-troca.org/wp-content/uploads/2025/06/Publicação-Site-webinar-com-Zero.png
END:VEVENT
END:VCALENDAR